    BEGIN:VCALENDAR
VERSION:2.0
PRODID:-//EEP//EN
BEGIN:VEVENT
UID:eep-21056-06e5fb2cba87c0622dece2adbd16fb12@example
DTSTAMP:20260421T083518Z
DTSTART:20260307T100000Z
DTEND:20260307T130000Z
SUMMARY:Immersion Day – ESME Lyon
DESCRIPTION:Half-day immersion at ESME Lyon to discover engineering studies, student projects, and student life.
LOCATION:16 rue Jean-Marie Leclair
END:VEVENT
END:VCALENDAR
