    BEGIN:VCALENDAR
VERSION:2.0
PRODID:-//EEP//EN
BEGIN:VEVENT
UID:eep-21051-f455c2cb968e5ba32276abce476d638b@example
DTSTAMP:20260421T083317Z
DTSTART:20260312T090000Z
DTEND:20260312T170000Z
SUMMARY:From curiosity to engineering: young talents at ENSEIRB-MATMECA!
DESCRIPTION:An immersive engineering discovery day at ENSEIRB-MATMECA with workshops, competitions, visits and testimonials for 300 students.
LOCATION:1 Avenue du Dr Albert Schweitzer
END:VEVENT
END:VCALENDAR
