    BEGIN:VCALENDAR
VERSION:2.0
PRODID:-//EEP//EN
BEGIN:VEVENT
UID:eep-21045-7f6724657356e01e28215f9dbd3ad180@example
DTSTAMP:20260421T083222Z
DTSTART:20260325T170000Z
DTEND:20260325T200000Z
SUMMARY:Talents of Digital Celebrates Its 20th Anniversary!
DESCRIPTION:Celebration of the 20th anniversary of the Talents du Numérique association, with discussions and surprises centered on digital education and orientation.
LOCATION:292 rue Saint-Martin\, 75003 Paris\, France
END:VEVENT
END:VCALENDAR
