    BEGIN:VCALENDAR
VERSION:2.0
PRODID:-//EEP//EN
BEGIN:VEVENT
UID:eep-21043-358842e790c2d179cae04d61a0f7aef0@example
DTSTAMP:20260421T083116Z
DTSTART:20260321T093000Z
DTEND:20260321T170000Z
SUMMARY:Student Fair: Work-Study (Apprenticeship) Programs in Toulouse
DESCRIPTION:Student fair in Toulouse focused on work-study (apprenticeship) programs, with an IESF Occitanie Toulouse booth about engineering and scientific careers.
LOCATION:11 Espl. Compans Caffarelli
END:VEVENT
END:VCALENDAR
