    BEGIN:VCALENDAR
VERSION:2.0
PRODID:-//EEP//EN
BEGIN:VEVENT
UID:eep-21042-358842e790c2d179cae04d61a0f7aef0@example
DTSTAMP:20260421T083515Z
DTSTART:20260321T093000Z
DTEND:20260321T170000Z
SUMMARY:Student Fair: Work-Study (Alternance) Programs in Montpellier
DESCRIPTION:Student fair in Montpellier focused on work-study (alternance) programs, orientation and study pathways. IESF Occitanie Méditerranée will be present with a booth.
LOCATION:1 Esplanade Charles de Gaulle
END:VEVENT
END:VCALENDAR
