    BEGIN:VCALENDAR
VERSION:2.0
PRODID:-//EEP//EN
BEGIN:VEVENT
UID:eep-21040-0689d44bec9c98041161c39dea237bd0@example
DTSTAMP:20260421T083115Z
DTSTART:20260320T000000Z
DTEND:20260321T000000Z
SUMMARY:Industrial companies: open your doors to the general public and school groups!
DESCRIPTION:Open Factories Days return on 20–21 March 2026 across France: industries open their doors free of charge to the public and school groups (IESF partner event).
LOCATION:France
END:VEVENT
END:VCALENDAR
