    BEGIN:VCALENDAR
VERSION:2.0
PRODID:-//EEP//EN
BEGIN:VEVENT
UID:eep-21039-db8894e227ed134ec78f34d0e8287415@example
DTSTAMP:20260421T083611Z
DTSTART:20260319T093000Z
DTEND:20260319T173000Z
SUMMARY:“Sciences\, a Women’s Profession” in Nancy
DESCRIPTION:Information day for high school girls (single-gender), reserved for pre-registered classes, to explore scientific careers through workshops, discussions, and lab visits.
LOCATION:Boulevard des Aiguillettes
END:VEVENT
END:VCALENDAR
