    BEGIN:VCALENDAR
VERSION:2.0
PRODID:-//EEP//EN
BEGIN:VEVENT
UID:eep-21037-3dbbaac30b2c2c4f9ba97fcf7b182373@example
DTSTAMP:20260421T083551Z
DTSTART:20260316T183000Z
DTEND:20260316T210000Z
SUMMARY:Conference: Issues Around Strategic Metals Markets
DESCRIPTION:Talk by Louis Maréchal on the challenges and strategies surrounding strategic metals markets.
LOCATION:51\, rue A. Fleming
END:VEVENT
END:VCALENDAR
