    BEGIN:VCALENDAR
VERSION:2.0
PRODID:-//EEP//EN
BEGIN:VEVENT
UID:eep-21035-fa63ef24121bb52f4e12439c8a71bf38@example
DTSTAMP:20260421T083432Z
DTSTART:20260314T100000Z
DTEND:20260314T163000Z
SUMMARY:5th edition of Bot Fest Nantes
DESCRIPTION:Robotics festival in Nantes with competitions and discovery workshops (free entry, registration required).
LOCATION:Rue Christian Pauc
END:VEVENT
END:VCALENDAR
