    BEGIN:VCALENDAR
VERSION:2.0
PRODID:-//EEP//EN
BEGIN:VEVENT
UID:eep-21034-70b31387cd8604144d3957478c63756e@example
DTSTAMP:20260421T083230Z
DTSTART:20260314T093000Z
DTEND:20260314T170000Z
SUMMARY:Salon de l’Etudiant: Work-Study (Apprenticeship) Programs in Amiens
DESCRIPTION:Student fair on work-study programs in Amiens, with guidance on admissions, programs, internships, and opportunities. IESF Picardie will present engineering and scientific careers.
LOCATION:Avenue de l’Hippodrome
END:VEVENT
END:VCALENDAR
