    BEGIN:VCALENDAR
VERSION:2.0
PRODID:-//EEP//EN
BEGIN:VEVENT
UID:eep-21033-a44000c0173bdc06d8414df40ce657a4@example
DTSTAMP:20260421T083549Z
DTSTART:20260313T093000Z
DTEND:20260314T170000Z
SUMMARY:Student Fair: Apprenticeship (Work-Study) Programs in Paris
DESCRIPTION:A two-day student fair in Paris dedicated to apprenticeship (work-study) programs and orientation. IESF Île-de-France will host a stand on engineering and scientific careers.
LOCATION:Place de la porte de Versailles
END:VEVENT
END:VCALENDAR
