    BEGIN:VCALENDAR
VERSION:2.0
PRODID:-//EEP//EN
BEGIN:VEVENT
UID:eep-21031-a44000c0173bdc06d8414df40ce657a4@example
DTSTAMP:20260421T084659Z
DTSTART:20260313T093000Z
DTEND:20260314T123000Z
SUMMARY:Salon de l’Etudiant Alternance in Bordeaux
DESCRIPTION:Work-study (alternance) student fair in Bordeaux, with an IESF Nouvelle Aquitaine booth promoting engineering and scientific careers.
LOCATION:173 Quai des Chartrons
END:VEVENT
END:VCALENDAR
