    BEGIN:VCALENDAR
VERSION:2.0
PRODID:-//EEP//EN
BEGIN:VEVENT
UID:eep-21030-c999071188e17afca83d701dd76506eb@example
DTSTAMP:20260421T083549Z
DTSTART:20260312T140000Z
DTEND:20260312T163000Z
SUMMARY:Female Engineer 2026
DESCRIPTION:Discover the profession of women engineers through testimonials from engineering students and professionals. Free, registration required.
LOCATION:Cité Scientifique\, 59650 Villeneuve-d'Ascq\, France
END:VEVENT
END:VCALENDAR
