    BEGIN:VCALENDAR
VERSION:2.0
PRODID:-//EEP//EN
BEGIN:VEVENT
UID:eep-21029-a39fa3d5a9d823a2059fa523942a2e2f@example
DTSTAMP:20260421T101314Z
DTSTART:20260312T100000Z
DTEND:20260312T200000Z
SUMMARY:Forum Reflow: Exploration Day of the Low-Tech Approach
DESCRIPTION:One-day low-tech forum at Centrale Nantes with conferences, round tables, workshops and stands; free with registration (optional €170 solar-oven workshop).
LOCATION:1 rue de la Noë
END:VEVENT
END:VCALENDAR
