    BEGIN:VCALENDAR
VERSION:2.0
PRODID:-//EEP//EN
BEGIN:VEVENT
UID:eep-21028-fbb74448594555834139c61dd08b16b5@example
DTSTAMP:20260421T102259Z
DTSTART:20260312T083000Z
DTEND:20260312T163000Z
SUMMARY:Forum: AI at the Heart of Maintenance
DESCRIPTION:A forum organized by AFIM and EiSINe featuring five roundtables on AI and the future of maintenance.
LOCATION:Chemin des rouliers
END:VEVENT
END:VCALENDAR
