    BEGIN:VCALENDAR
VERSION:2.0
PRODID:-//EEP//EN
BEGIN:VEVENT
UID:eep-21027-e56b8645def56c85d0d81b616b99a297@example
DTSTAMP:20260421T102823Z
DTSTART:20260311T090000Z
DTEND:20260312T090000Z
SUMMARY:Civil Engineering Technical Days 2026 – AI: Augmented Engineering in the Service of Civil Engineering
DESCRIPTION:GC’2026 Technical Days (AFGC): “AI: Augmented Engineering in the Service of Civil Engineering”.
LOCATION:8 Rue Louis Armand
END:VEVENT
END:VCALENDAR
