    BEGIN:VCALENDAR
VERSION:2.0
PRODID:-//EEP//EN
BEGIN:VEVENT
UID:eep-21024-b66c7a9192054d62381c9a32521a983a@example
DTSTAMP:20260421T083359Z
DTSTART:20260304T170000Z
DTEND:20260304T190000Z
SUMMARY:Innovate and Entrepreneur for Sustainable Development – The Circular Economy\, a Lever for Territorial Development
DESCRIPTION:Conference/colloquium on the circular economy, the 2020 AGEC law, innovation opportunities, and territorial development in Aveyron (hybrid, free, registration required).
LOCATION:
END:VEVENT
END:VCALENDAR
