    BEGIN:VCALENDAR
VERSION:2.0
PRODID:-//EEP//EN
BEGIN:VEVENT
UID:eep-21022-f515e4f3c5373765a8100fc94f969038@example
DTSTAMP:20260421T103253Z
DTSTART:20260310T093000Z
DTEND:20260310T171500Z
SUMMARY:Research Day – Université Gustave Eiffel / IGN / Géodata Paris
DESCRIPTION:35th Research Day organised by Université Gustave Eiffel, IGN and Géodata Paris, featuring presentations and poster sessions on Earth observation, forests, spatial data visualisation and geodetic measurements.
LOCATION:entrée par le 12\, boulevard Copernic
END:VEVENT
END:VCALENDAR
