    BEGIN:VCALENDAR
VERSION:2.0
PRODID:-//EEP//EN
BEGIN:VEVENT
UID:eep-21017-67996acf0edeb3bd373d863d1ddd391f@example
DTSTAMP:20260421T100542Z
DTSTART:20260307T090000Z
DTEND:20260307T160000Z
SUMMARY:ICAM Brittany Campus Open Day – Apprentice-Status Engineering Program
DESCRIPTION:Open day at the Icam Brittany campus in Vannes to learn about the apprentice-status engineering program and admissions process.
LOCATION:9 rue du commandant charcot
END:VEVENT
END:VCALENDAR
