    BEGIN:VCALENDAR
VERSION:2.0
PRODID:-//EEP//EN
BEGIN:VEVENT
UID:eep-21015-461cdf48a9eff0887ed95c0d72023424@example
DTSTAMP:20260421T132429Z
DTSTART:20260307T093000Z
DTEND:20260307T170000Z
SUMMARY:Icam Lille Open Day
DESCRIPTION:Open day at Icam Lille: guided campus tours, information stands (admissions, programmes, international, company links and student support), and discussions with students and professors.
LOCATION:6 rue Auber
END:VEVENT
END:VCALENDAR
