    BEGIN:VCALENDAR
VERSION:2.0
PRODID:-//EEP//EN
BEGIN:VEVENT
UID:eep-21014-67996acf0edeb3bd373d863d1ddd391f@example
DTSTAMP:20260421T095935Z
DTSTART:20260307T090000Z
DTEND:20260307T160000Z
SUMMARY:CESI Arras Open Day
DESCRIPTION:Open Day to discover CESI Arras engineering programs, meet students and staff, and visit the campus and technology labs.
LOCATION:7 Rue Diderot
END:VEVENT
END:VCALENDAR
