    BEGIN:VCALENDAR
VERSION:2.0
PRODID:-//EEP//EN
BEGIN:VEVENT
UID:eep-21013-67996acf0edeb3bd373d863d1ddd391f@example
DTSTAMP:20260421T100823Z
DTSTART:20260307T090000Z
DTEND:20260307T160000Z
SUMMARY:CESI Caen Open Day
DESCRIPTION:Open day at CESI Caen to discover engineering programmes, meet students and staff, and visit the campus and technology labs.
LOCATION:4 place Boston
END:VEVENT
END:VCALENDAR
