    BEGIN:VCALENDAR
VERSION:2.0
PRODID:-//EEP//EN
BEGIN:VEVENT
UID:eep-21012-67996acf0edeb3bd373d863d1ddd391f@example
DTSTAMP:20260421T100657Z
DTSTART:20260307T090000Z
DTEND:20260307T160000Z
SUMMARY:CESI Lille Open Day
DESCRIPTION:Open day to discover CESI Lille engineering programmes in digital sciences, with exchanges, campus visits and technological labs.
LOCATION:1 rue Heloïse
END:VEVENT
END:VCALENDAR
