    BEGIN:VCALENDAR
VERSION:2.0
PRODID:-//EEP//EN
BEGIN:VEVENT
UID:eep-21011-67996acf0edeb3bd373d863d1ddd391f@example
DTSTAMP:20260421T103007Z
DTSTART:20260307T090000Z
DTEND:20260307T170000Z
SUMMARY:ENSSAT (University of Rennes) Open Day – Special 40th Anniversary
DESCRIPTION:Free open day at ENSSAT (University of Rennes), 9:00–17:00, with presentations, discussions with staff and students, and talks on apprenticeships and international opportunities. Special 40th anniversary program.
LOCATION:6\, rue de Kerampont
END:VEVENT
END:VCALENDAR
