    BEGIN:VCALENDAR
VERSION:2.0
PRODID:-//EEP//EN
BEGIN:VEVENT
UID:eep-21010-67996acf0edeb3bd373d863d1ddd391f@example
DTSTAMP:20260421T100231Z
DTSTART:20260307T090000Z
DTEND:20260307T160000Z
SUMMARY:CESI Rouen Open Day
DESCRIPTION:Open day at the CESI Rouen campus to discover engineering programmes, meet students and staff, and visit the campus and labs.
LOCATION:80 avenue Edmund Halley\, Rouen Madrillet Innovation
END:VEVENT
END:VCALENDAR
