    BEGIN:VCALENDAR
VERSION:2.0
PRODID:-//EEP//EN
BEGIN:VEVENT
UID:eep-21009-8ee4ac9aedf8b9fd10d2104da755fb9b@example
DTSTAMP:20260421T101303Z
DTSTART:20260307T120000Z
DTEND:20260307T150000Z
SUMMARY:Open Day at Icam Strasbourg (Engineering School)
DESCRIPTION:Open Day at Icam Strasbourg: campus tours, info stands, student associations, and meetings with students and teachers.
LOCATION:2 rue de Madrid
END:VEVENT
END:VCALENDAR
