    BEGIN:VCALENDAR
VERSION:2.0
PRODID:-//EEP//EN
BEGIN:VEVENT
UID:eep-21008-06e5fb2cba87c0622dece2adbd16fb12@example
DTSTAMP:20260421T103044Z
DTSTART:20260307T100000Z
DTEND:20260307T170000Z
SUMMARY:Studyrama Higher Education and Work-Study Fair in Toulon
DESCRIPTION:Higher education and work-study fair in Toulon with guidance on study paths, Parcoursup, and student life; IESF Provence booth on engineering and scientific careers.
LOCATION:Place de Besagne - Centre Mayol
END:VEVENT
END:VCALENDAR
