    BEGIN:VCALENDAR
VERSION:2.0
PRODID:-//EEP//EN
BEGIN:VEVENT
UID:eep-21006-461cdf48a9eff0887ed95c0d72023424@example
DTSTAMP:20260421T135336Z
DTSTART:20260307T093000Z
DTEND:20260307T170000Z
SUMMARY:Student Fair: Work-Study (Apprenticeship) Programs in Strasbourg
DESCRIPTION:Student fair in Strasbourg focused on work-study (apprenticeship) programs; includes an IESF Alsace booth about engineering and scientific careers. Free mandatory invitation required.
LOCATION:Place de Bordeaux
END:VEVENT
END:VCALENDAR
