    BEGIN:VCALENDAR
VERSION:2.0
PRODID:-//EEP//EN
BEGIN:VEVENT
UID:eep-21005-461cdf48a9eff0887ed95c0d72023424@example
DTSTAMP:20260421T083344Z
DTSTART:20260307T093000Z
DTEND:20260307T170000Z
SUMMARY:Student Fair: Work-Study (Apprenticeship) Programs in Metz
DESCRIPTION:Student fair in Metz focused on work-study (apprenticeship) programs. IESF Lorraine will host a booth presenting engineering and scientific careers.
LOCATION:100 rue aux Arènes
END:VEVENT
END:VCALENDAR
