    BEGIN:VCALENDAR
VERSION:2.0
PRODID:-//EEP//EN
BEGIN:VEVENT
UID:eep-21003-4f3fea77c9c5815e94d2f4f0c1f564d8@example
DTSTAMP:20260421T083359Z
DTSTART:20260306T093000Z
DTEND:20260306T173000Z
SUMMARY:"Science\, a Women’s Profession" in Strasbourg
DESCRIPTION:A girls-only information day for pre-registered high school classes, featuring discussions with women scientists and laboratory visits.
LOCATION:1\, Rue Blaise Pascal
END:VEVENT
END:VCALENDAR
