    BEGIN:VCALENDAR
VERSION:2.0
PRODID:-//EEP//EN
BEGIN:VEVENT
UID:eep-21001-d41a9d5562476a2c2e0fcc232a4ae3e6@example
DTSTAMP:20260421T083343Z
DTSTART:20260305T093000Z
DTEND:20260305T173000Z
SUMMARY:“Sciences\, a Women’s Profession” in Mulhouse
DESCRIPTION:Information day for high school girls (girls-only) about scientific careers; reserved for pre-registered classes.
LOCATION:18 Rue des Frères Lumière
END:VEVENT
END:VCALENDAR
