    BEGIN:VCALENDAR
VERSION:2.0
PRODID:-//EEP//EN
BEGIN:VEVENT
UID:eep-21000-30858ef21178beaf0dd5f4e55933bba0@example
DTSTAMP:20260421T083529Z
DTSTART:20260305T183000Z
DTEND:20260305T200000Z
SUMMARY:Conference: Do we really know space better than the ocean floor?
DESCRIPTION:A three-voice conference exploring whether we truly know space better than the ocean floor, through geosciences and astronomy perspectives.
LOCATION:
END:VEVENT
END:VCALENDAR
