    BEGIN:VCALENDAR
VERSION:2.0
PRODID:-//EEP//EN
BEGIN:VEVENT
UID:eep-20997-49c9ed005e41face3a2d4cdf5b0eb9df@example
DTSTAMP:20260421T102710Z
DTSTART:20260304T180000Z
DTEND:20260304T193000Z
SUMMARY:Generations of Engineers: Heritage\, Aspirations and Commitments for 2030
DESCRIPTION:UNESCO- and JNI‑IESF-labeled conference by EPF Alumni (with the EPF Foundation) featuring intergenerational round tables; followed by a dinner aperitif.
LOCATION:55 Av. du Président Wilson
END:VEVENT
END:VCALENDAR
