    BEGIN:VCALENDAR
VERSION:2.0
PRODID:-//EEP//EN
BEGIN:VEVENT
UID:eep-20995-5d31ec4e06330b6b848b169b6fc2e293@example
DTSTAMP:20260419T202000Z
DTSTART:20260303T180000Z
DTEND:20260303T200000Z
SUMMARY:Conference: Nuclear power — and after? The waste challenge
DESCRIPTION:Conference by François Lauprêtre (Ingérop) on “Nuclear power — and after? The waste challenge.” Free entry.
LOCATION:2 avenue Blaise Pascal
END:VEVENT
END:VCALENDAR
