    BEGIN:VCALENDAR
VERSION:2.0
PRODID:-//EEP//EN
BEGIN:VEVENT
UID:eep-20991-757ef64f9a49e38db18bc08ebe8494d5@example
DTSTAMP:20260421T135352Z
DTSTART:20260301T080000Z
DTEND:20260315T230000Z
SUMMARY:Virtual tour of École nationale des ponts et chaussées
DESCRIPTION:A virtual tour of the École nationale des ponts et chaussées campus with interviews and videos about the engineering program, facilities, and student life.
LOCATION:
END:VEVENT
END:VCALENDAR
